BEGIN:VCALENDAR
VERSION:2.0
PRODID:
BEGIN:VEVENT
UID:093936lv
DTSTAMP:20260422T124906Z
DTSTART:20260608T213000Z
DTEND:20260608T223000Z
LOCATION: The Scarlet Hotel (Lincoln\, 68508)
SUMMARY: Cornhusker Connections Happy Hour
DESCRIPTION: \n  
CLASS:PUBLIC
END:VEVENT
END:VCALENDAR
